BEGIN:VCALENDAR
VERSION:2.0
PRODID:-//Capital Protection Group - ECPv6.15.20//NONSGML v1.0//EN
CALSCALE:GREGORIAN
METHOD:PUBLISH
X-WR-CALNAME:Capital Protection Group
X-ORIGINAL-URL:https://capitalprotect.net
X-WR-CALDESC:Events for Capital Protection Group
REFRESH-INTERVAL;VALUE=DURATION:PT1H
X-Robots-Tag:noindex
X-PUBLISHED-TTL:PT1H
BEGIN:VTIMEZONE
TZID:UTC
BEGIN:STANDARD
TZOFFSETFROM:+0000
TZOFFSETTO:+0000
TZNAME:UTC
DTSTART:20250101T000000
END:STANDARD
END:VTIMEZONE
BEGIN:VEVENT
DTSTART;TZID=UTC:20260428T183000
DTEND;TZID=UTC:20260428T193000
DTSTAMP:20260424T122744
CREATED:20260415T154602Z
LAST-MODIFIED:20260415T154602Z
UID:39470-1777401000-1777404600@capitalprotect.net
SUMMARY:Taxes in Retirement
DESCRIPTION:
URL:https://capitalprotect.net/event/taxes-in-retirement-3/
LOCATION:Miami Dade College Kendall Campus\, 11011 SW 104th Street\, Miami\, FL\, 33176\, United States
END:VEVENT
BEGIN:VEVENT
DTSTART;TZID=UTC:20260526T183000
DTEND;TZID=UTC:20260526T193000
DTSTAMP:20260424T122744
CREATED:20260415T154636Z
LAST-MODIFIED:20260415T154636Z
UID:39473-1779820200-1779823800@capitalprotect.net
SUMMARY:Taxes in Retirement
DESCRIPTION:
URL:https://capitalprotect.net/event/taxes-in-retirement-4/
LOCATION:Miami Dade College Homestead Campus\, 500 College Terrace\, Homestead\, FL\, 33030\, United States
END:VEVENT
END:VCALENDAR